BEGIN:VCALENDAR
VERSION:2.0
PRODID:-//eventon.com NONSGML v1.0//EN
CALSCALE:GREGORIAN
METHOD:PUBLISH
BEGIN:VEVENT
UID:69ed83fbe14b3
DTSTAMP:20260426T041819
DTSTART:20260524T180000Z
DTEND:20260524T190000Z
TZID:Africa/Abidjan
LOCATION:Loiano: Palazzo Comunale Via Roma\,  55
SUMMARY:I passi delle donne\,  80 anni di diritti e di conquiste
DESCRIPTION: Rappresentazione teatrale/musicale a tema parità/voto alle donne che si svolgerà nella Loggia del Palazzo Comunale\,  da cui si gode di una meravigliosa veduta su uno squarcio di Appennino capace di regalare tramonti spettacolari. Si tratta di uno spettacolo itinerante nei locali del Palazzo Comunale (Via Roma\,  55).Ci saranno 4 &#8220;personaggi&#8221;\, [..]\nhttps://festivalnarrativodelpaesaggio.it/events/i-passi-delle-donne-80-anni-di-diritti-e-di-conquiste/
URL:https://festivalnarrativodelpaesaggio.it/events/i-passi-delle-donne-80-anni-di-diritti-e-di-conquiste/
END:VEVENT
END:VCALENDAR