BEGIN:VCALENDAR
VERSION:2.0
PRODID:-//eventon.com NONSGML v1.0//EN
CALSCALE:GREGORIAN
METHOD:PUBLISH
BEGIN:VEVENT
UID:69ed84328dc18
DTSTAMP:20260426T041914
DTSTART:20260515T083000Z
DTEND:20260613T180000Z
TZID:Africa/Abidjan
LOCATION:Loiano: Palazzo Comunale Via Roma\,  55
SUMMARY:Vaud al Dònn (Voto alle donne)
DESCRIPTION: Mostra di dati statistici\,  atti\,  manifesti elettorali\,  foto e articoli di giornale sul lungo percorso del voto alle donne\,  allestita nei locali del Palazzo Comunale per offrire uno spunto interessante di riflessione sul ruolo dell&#8217;istituzione comunale a garanzia dei diritti di tutti i cittadini e a salvaguardia della &#8220;Cosa Pubblica&#8221;.\nhttps://festivalnarrativodelpaesaggio.it/events/vaud-al-donn-voto-alle-donne/
URL:https://festivalnarrativodelpaesaggio.it/events/vaud-al-donn-voto-alle-donne/
END:VEVENT
END:VCALENDAR